{"text_format":"3","workbook":"xlsx","n_sheets":1,"sheets":["Лист1"],"not_rendered":{"external_links":2},"read":"whole","date_system":"1900"}

{"sheet":"Лист1","index":0,"n_rows":9,"n_cols":9,"rows_kept":9,"merged":[[0,0,0,2]]}
[{"$f":"'[1]4'!A1","v":"МАОУ \"МАОУ \"Лицей№121\""},null,null,{"$f":"'[1]4'!$D$1","v":"Отд./корп"},{"$f":"'[1]4'!$E$1","v":"А.Камалеева,22, Космонавтов,19"},null,null,{"$f":"'[1]4'!$H$1","v":"День"},"2023-09-08"]
[{"$f":"'[1]4'!A2","v":"Раздел"},{"$f":"'[1]4'!B2","v":"№ рец."},{"$f":"'[1]4'!C2","v":"Блюдо"},{"$f":"'[1]4'!D2","v":"Выход, г"},{"$f":"'[1]4'!E2","v":"Цена"},{"$f":"'[1]4'!F2","v":"Калорийность"},{"$f":"'[1]4'!G2","v":"Белки"},{"$f":"'[1]4'!H2","v":"Жиры"},{"$f":"'[1]4'!I2","v":"Углеводы"}]
[{"$f":"'[2]4-9, 18-23 сент.'!B29","v":"гор.блюдо"},{"$f":"'[2]4-9, 18-23 сент.'!C29","v":"ТТК 2021 г"},{"$f":"'[2]4-9, 18-23 сент.'!D29","v":"Биточки рыбные из фарша минтая"},{"$f":"'[2]4-9, 18-23 сент.'!E29","v":90},null,{"$f":"'[2]4-9, 18-23 сент.'!G29","v":98},{"$f":"'[2]4-9, 18-23 сент.'!H29","v":9.8},{"$f":"'[2]4-9, 18-23 сент.'!I29","v":2.01},{"$f":"'[2]4-9, 18-23 сент.'!J29","v":10.2}]
[{"$f":"'[2]4-9, 18-23 сент.'!B30","v":"гор.блюдо"},{"$f":"'[2]4-9, 18-23 сент.'!C30","v":"№312/2015 г"},{"$f":"'[2]4-9, 18-23 сент.'!D30","v":"Пюре картофельное"},{"$f":"'[2]4-9, 18-23 сент.'!E30","v":150},null,{"$f":"'[2]4-9, 18-23 сент.'!G30","v":169},{"$f":"'[2]4-9, 18-23 сент.'!H30","v":3.28},{"$f":"'[2]4-9, 18-23 сент.'!I30","v":7.28},{"$f":"'[2]4-9, 18-23 сент.'!J30","v":22}]
[{"$f":"'[2]4-9, 18-23 сент.'!B31","v":"гор.напиток"},{"$f":"'[2]4-9, 18-23 сент.'!C31","v":"ТТК 2021 г"},{"$f":"'[2]4-9, 18-23 сент.'!D31","v":"Компот из плодов или ягод сушеных (урюк)"},{"$f":"'[2]4-9, 18-23 сент.'!E31","v":180},null,{"$f":"'[2]4-9, 18-23 сент.'!G31","v":50},{"$f":"'[2]4-9, 18-23 сент.'!H31","v":0.365},{"$f":"'[2]4-9, 18-23 сент.'!I31","v":0.03},{"$f":"'[2]4-9, 18-23 сент.'!J31","v":11.9}]
[{"$f":"'[2]4-9, 18-23 сент.'!B32","v":"хлеб"},{"$f":"'[2]4-9, 18-23 сент.'!C32","v":"ТТК"},{"$f":"'[2]4-9, 18-23 сент.'!D32","v":"Хлебная корзина (хлеб пш., хлеб рж.-пш.)"},{"$f":"'[2]4-9, 18-23 сент.'!E32","v":40},null,{"$f":"'[2]4-9, 18-23 сент.'!G32","v":91},{"$f":"'[2]4-9, 18-23 сент.'!H32","v":2.52},{"$f":"'[2]4-9, 18-23 сент.'!I32","v":0.36},{"$f":"'[2]4-9, 18-23 сент.'!J32","v":18.84}]
["закуска",{"$f":"'[2]4-9, 18-23 сент.'!C33","v":"№ 532/2013г, Самара"},{"$f":"'[2]4-9, 18-23 сент.'!D33","v":"Салат-бар (Помидоры свежие порциями, огурцы соленые, фасоль конс., сухарики, масло раст.)"},{"$f":"'[2]4-9, 18-23 сент.'!E33","v":60},null,{"$f":"'[2]4-9, 18-23 сент.'!G33","v":91},{"$f":"'[2]4-9, 18-23 сент.'!H33","v":1.67},{"$f":"'[2]4-9, 18-23 сент.'!I33","v":6.11},{"$f":"'[2]4-9, 18-23 сент.'!J33","v":7.09}]
["фрукт",{"$f":"'[2]4-9, 18-23 сент.'!C34","v":"№532/2013 г"},{"$f":"'[2]4-9, 18-23 сент.'!D34","v":"Десерт фруктовый (яблоки)"},{"$f":"'[2]4-9, 18-23 сент.'!E34","v":80},null,{"$f":"'[2]4-9, 18-23 сент.'!G34","v":38},{"$f":"'[2]4-9, 18-23 сент.'!H34","v":0.32},{"$f":"'[2]4-9, 18-23 сент.'!I34","v":0.32},{"$f":"'[2]4-9, 18-23 сент.'!J34","v":7.84}]
["ИТОГО",null,null,{"$f":"'[2]4-9, 18-23 сент.'!E35","v":600},null,{"$f":"'[2]4-9, 18-23 сент.'!G35","v":537},{"$f":"'[2]4-9, 18-23 сент.'!H35","v":17.955},{"$f":"'[2]4-9, 18-23 сент.'!I35","v":16.11},{"$f":"'[2]4-9, 18-23 сент.'!J35","v":77.87}]